BEGIN:VCALENDAR
VERSION:2.0
PRODID:-//Squarespace Inc/Squarespace 6//v6//EN
BEGIN:VEVENT
UID:5c3f3a38758d460d60356c9d@squarespace.com
DTSTAMP:20190116T141008Z
DTSTART:20190208T233000Z
DTEND:20190209T023000Z
SUMMARY:Madame Moules @ Entangled Events - Friday 8 February
GEO:-27.197079;152.825676
LOCATION:Entangled\, 38 Williams Street\, Dayboro\, QLD\, 4521\, Australia
END:VEVENT
END:VCALENDAR
